BEGIN:VCALENDAR
VERSION:2.0
PRODID:-//Auction List Services - ECPv6.15.20//NONSGML v1.0//EN
CALSCALE:GREGORIAN
METHOD:PUBLISH
X-WR-CALNAME:Auction List Services
X-ORIGINAL-URL:https://www.auctionlistservices.com
X-WR-CALDESC:Events for Auction List Services
REFRESH-INTERVAL;VALUE=DURATION:PT1H
X-Robots-Tag:noindex
X-PUBLISHED-TTL:PT1H
BEGIN:VTIMEZONE
TZID:America/New_York
BEGIN:DAYLIGHT
TZOFFSETFROM:-0500
TZOFFSETTO:-0400
TZNAME:EDT
DTSTART:20240310T070000
END:DAYLIGHT
BEGIN:STANDARD
TZOFFSETFROM:-0400
TZOFFSETTO:-0500
TZNAME:EST
DTSTART:20241103T060000
END:STANDARD
BEGIN:DAYLIGHT
TZOFFSETFROM:-0500
TZOFFSETTO:-0400
TZNAME:EDT
DTSTART:20250309T070000
END:DAYLIGHT
BEGIN:STANDARD
TZOFFSETFROM:-0400
TZOFFSETTO:-0500
TZNAME:EST
DTSTART:20251102T060000
END:STANDARD
BEGIN:DAYLIGHT
TZOFFSETFROM:-0500
TZOFFSETTO:-0400
TZNAME:EDT
DTSTART:20260308T070000
END:DAYLIGHT
BEGIN:STANDARD
TZOFFSETFROM:-0400
TZOFFSETTO:-0500
TZNAME:EST
DTSTART:20261101T060000
END:STANDARD
BEGIN:DAYLIGHT
TZOFFSETFROM:-0500
TZOFFSETTO:-0400
TZNAME:EDT
DTSTART:20270314T070000
END:DAYLIGHT
BEGIN:STANDARD
TZOFFSETFROM:-0400
TZOFFSETTO:-0500
TZNAME:EST
DTSTART:20271107T060000
END:STANDARD
END:VTIMEZONE
BEGIN:VEVENT
DTSTART;TZID=America/New_York:20260304T120000
DTEND;TZID=America/New_York:20260312T183000
DTSTAMP:20260424T174334
CREATED:20260228T142151Z
LAST-MODIFIED:20260313T133605Z
UID:20162-1772625600-1773340200@www.auctionlistservices.com
SUMMARY:Retired Government PPV (7)
DESCRIPTION:Ford Explorer PPVs \nAuction Closed \n See more
URL:https://www.auctionlistservices.com/auction/retired-government-ppv-2/
LOCATION:Retired Government PPV\, Jackson\, NJ\, United States
CATEGORIES:New Jersey,Retired Government PPV
ATTACH;FMTTYPE=image/jpeg:https://www.auctionlistservices.com/wp-content/uploads/2026/02/img_7190.jpg
END:VEVENT
BEGIN:VEVENT
DTSTART;TZID=America/New_York:20250813T120000
DTEND;TZID=America/New_York:20250820T183000
DTSTAMP:20260424T174334
CREATED:20250807T141337Z
LAST-MODIFIED:20250822T120853Z
UID:20010-1755086400-1755714600@www.auctionlistservices.com
SUMMARY:Retired Govt Vehicles (45)
DESCRIPTION:Retired Government and Impound Vehicles \nAuction Closed \n See more
URL:https://www.auctionlistservices.com/auction/retired-government-vehicles-3/
LOCATION:Retired Government Vehicles\, Jackson\, NJ\, United States
CATEGORIES:New Jersey,Retired Government PPV
ATTACH;FMTTYPE=image/jpeg:https://www.auctionlistservices.com/wp-content/uploads/2025/08/img_8202.jpg
END:VEVENT
BEGIN:VEVENT
DTSTART;TZID=America/New_York:20250412T120000
DTEND;TZID=America/New_York:20250422T183000
DTSTAMP:20260424T174334
CREATED:20250409T114251Z
LAST-MODIFIED:20250424T115245Z
UID:19908-1744459200-1745346600@www.auctionlistservices.com
SUMMARY:Retired Govt Vehicles (67)
DESCRIPTION:Retired Government and Impound Vehicles \nAuction Closed \n See more
URL:https://www.auctionlistservices.com/auction/retired-government-vehicles-2/
LOCATION:Retired Government Vehicles\, Jackson\, NJ\, United States
CATEGORIES:New Jersey,Retired Government PPV
ATTACH;FMTTYPE=image/jpeg:https://www.auctionlistservices.com/wp-content/uploads/2025/04/img_7766.jpg
END:VEVENT
BEGIN:VEVENT
DTSTART;TZID=America/New_York:20250329T120000
DTEND;TZID=America/New_York:20250408T183000
DTSTAMP:20260424T174334
CREATED:20250328T184223Z
LAST-MODIFIED:20250409T115016Z
UID:19898-1743249600-1744137000@www.auctionlistservices.com
SUMMARY:Retired Government PPV (5)
DESCRIPTION:Retired Government Vehicles \nAuction Closed \n See more
URL:https://www.auctionlistservices.com/auction/retired-government-ppv/
LOCATION:Retired Government PPV\, Jackson\, NJ\, United States
CATEGORIES:New Jersey,Retired Government PPV
ATTACH;FMTTYPE=image/jpeg:https://www.auctionlistservices.com/wp-content/uploads/2025/03/img_7134.jpg
END:VEVENT
END:VCALENDAR