BEGIN:VCALENDAR
VERSION:2.0
PRODID:-//Auction List Services - ECPv6.15.20//NONSGML v1.0//EN
CALSCALE:GREGORIAN
METHOD:PUBLISH
X-WR-CALNAME:Auction List Services
X-ORIGINAL-URL:https://www.auctionlistservices.com
X-WR-CALDESC:Events for Auction List Services
REFRESH-INTERVAL;VALUE=DURATION:PT1H
X-Robots-Tag:noindex
X-PUBLISHED-TTL:PT1H
BEGIN:VTIMEZONE
TZID:America/New_York
BEGIN:DAYLIGHT
TZOFFSETFROM:-0500
TZOFFSETTO:-0400
TZNAME:EDT
DTSTART:20230312T070000
END:DAYLIGHT
BEGIN:STANDARD
TZOFFSETFROM:-0400
TZOFFSETTO:-0500
TZNAME:EST
DTSTART:20231105T060000
END:STANDARD
BEGIN:DAYLIGHT
TZOFFSETFROM:-0500
TZOFFSETTO:-0400
TZNAME:EDT
DTSTART:20240310T070000
END:DAYLIGHT
BEGIN:STANDARD
TZOFFSETFROM:-0400
TZOFFSETTO:-0500
TZNAME:EST
DTSTART:20241103T060000
END:STANDARD
BEGIN:DAYLIGHT
TZOFFSETFROM:-0500
TZOFFSETTO:-0400
TZNAME:EDT
DTSTART:20250309T070000
END:DAYLIGHT
BEGIN:STANDARD
TZOFFSETFROM:-0400
TZOFFSETTO:-0500
TZNAME:EST
DTSTART:20251102T060000
END:STANDARD
END:VTIMEZONE
BEGIN:VTIMEZONE
TZID:America/New_York
BEGIN:DAYLIGHT
TZOFFSETFROM:-0500
TZOFFSETTO:-0400
TZNAME:EDT
DTSTART:20170312T070000
END:DAYLIGHT
BEGIN:STANDARD
TZOFFSETFROM:-0400
TZOFFSETTO:-0500
TZNAME:EST
DTSTART:20171105T060000
END:STANDARD
BEGIN:DAYLIGHT
TZOFFSETFROM:-0500
TZOFFSETTO:-0400
TZNAME:EDT
DTSTART:20180311T070000
END:DAYLIGHT
BEGIN:STANDARD
TZOFFSETFROM:-0400
TZOFFSETTO:-0500
TZNAME:EST
DTSTART:20181104T060000
END:STANDARD
BEGIN:DAYLIGHT
TZOFFSETFROM:-0500
TZOFFSETTO:-0400
TZNAME:EDT
DTSTART:20190310T070000
END:DAYLIGHT
BEGIN:STANDARD
TZOFFSETFROM:-0400
TZOFFSETTO:-0500
TZNAME:EST
DTSTART:20191103T060000
END:STANDARD
END:VTIMEZONE
BEGIN:VEVENT
DTSTART;TZID=America/New_York:20241021T120000
DTEND;TZID=America/New_York:20241028T183000
DTSTAMP:20260422T195407
CREATED:20241004T124643Z
LAST-MODIFIED:20241029T124651Z
UID:19778-1729512000-1730140200@www.auctionlistservices.com
SUMMARY:Public Auto Auction (25)
DESCRIPTION:Boats\, Cars\, Jet Skis\, Trailers & More! \nAuction Closed \n See more
URL:https://www.auctionlistservices.com/auction/public-auto-auction-2/
LOCATION:Public Auto Auction\, Jackson\, NJ\, United States
CATEGORIES:New Jersey,Public Auto Auction
ATTACH;FMTTYPE=image/jpeg:https://www.auctionlistservices.com/wp-content/uploads/2024/10/publicauto_5755.jpg
END:VEVENT
BEGIN:VEVENT
DTSTART;TZID=America/New_York:20180619T180000
DTEND;TZID=America/New_York:20180626T190000
DTSTAMP:20260422T195407
CREATED:20180605T195040Z
LAST-MODIFIED:20180605T195040Z
UID:7704-1529431200-1530039600@www.auctionlistservices.com
SUMMARY:Public Auto Auction (9 lots)
DESCRIPTION:Cars & Light Duty Trucks\nAuction Closed \n See more
URL:https://www.auctionlistservices.com/auction/public-auto-auction/
LOCATION:Public Auto Auction\, Jackson\, NJ\, United States
CATEGORIES:New Jersey,Public Auto Auction
ATTACH;FMTTYPE=image/jpeg:https://www.auctionlistservices.com/wp-content/uploads/2018/06/01.jpg
END:VEVENT
END:VCALENDAR