BEGIN:VCALENDAR
VERSION:2.0
PRODID:-//Auction List Services - ECPv6.15.20//NONSGML v1.0//EN
CALSCALE:GREGORIAN
METHOD:PUBLISH
X-ORIGINAL-URL:https://www.auctionlistservices.com
X-WR-CALDESC:Events for Auction List Services
REFRESH-INTERVAL;VALUE=DURATION:PT1H
X-Robots-Tag:noindex
X-PUBLISHED-TTL:PT1H
BEGIN:VTIMEZONE
TZID:America/New_York
BEGIN:DAYLIGHT
TZOFFSETFROM:-0500
TZOFFSETTO:-0400
TZNAME:EDT
DTSTART:20160313T070000
END:DAYLIGHT
BEGIN:STANDARD
TZOFFSETFROM:-0400
TZOFFSETTO:-0500
TZNAME:EST
DTSTART:20161106T060000
END:STANDARD
BEGIN:DAYLIGHT
TZOFFSETFROM:-0500
TZOFFSETTO:-0400
TZNAME:EDT
DTSTART:20170312T070000
END:DAYLIGHT
BEGIN:STANDARD
TZOFFSETFROM:-0400
TZOFFSETTO:-0500
TZNAME:EST
DTSTART:20171105T060000
END:STANDARD
BEGIN:DAYLIGHT
TZOFFSETFROM:-0500
TZOFFSETTO:-0400
TZNAME:EDT
DTSTART:20180311T070000
END:DAYLIGHT
BEGIN:STANDARD
TZOFFSETFROM:-0400
TZOFFSETTO:-0500
TZNAME:EST
DTSTART:20181104T060000
END:STANDARD
END:VTIMEZONE
BEGIN:VEVENT
DTSTART;TZID=America/New_York:20171202T090000
DTEND;TZID=America/New_York:20171206T190000
DTSTAMP:20260420T073900
CREATED:20171201T114451Z
LAST-MODIFIED:20171201T114451Z
UID:7368-1512205200-1512586800@www.auctionlistservices.com
SUMMARY:Mazza Recycling (11 lots)
DESCRIPTION:Rolloff & Dumpsters\nAuction Closed \n See more
URL:https://www.auctionlistservices.com/auction/mazza-recycling/
CATEGORIES:Mazza Recycling,New Jersey
ATTACH;FMTTYPE=image/jpeg:https://www.auctionlistservices.com/wp-content/uploads/2017/12/100_2.jpg
END:VEVENT
END:VCALENDAR