BEGIN:VCALENDAR
VERSION:2.0
PRODID:-//Auction List Services - ECPv6.15.20//NONSGML v1.0//EN
CALSCALE:GREGORIAN
METHOD:PUBLISH
X-WR-CALNAME:Auction List Services
X-ORIGINAL-URL:https://www.auctionlistservices.com
X-WR-CALDESC:Events for Auction List Services
REFRESH-INTERVAL;VALUE=DURATION:PT1H
X-Robots-Tag:noindex
X-PUBLISHED-TTL:PT1H
BEGIN:VTIMEZONE
TZID:America/New_York
BEGIN:DAYLIGHT
TZOFFSETFROM:-0500
TZOFFSETTO:-0400
TZNAME:EDT
DTSTART:20190310T070000
END:DAYLIGHT
BEGIN:STANDARD
TZOFFSETFROM:-0400
TZOFFSETTO:-0500
TZNAME:EST
DTSTART:20191103T060000
END:STANDARD
BEGIN:DAYLIGHT
TZOFFSETFROM:-0500
TZOFFSETTO:-0400
TZNAME:EDT
DTSTART:20200308T070000
END:DAYLIGHT
BEGIN:STANDARD
TZOFFSETFROM:-0400
TZOFFSETTO:-0500
TZNAME:EST
DTSTART:20201101T060000
END:STANDARD
BEGIN:DAYLIGHT
TZOFFSETFROM:-0500
TZOFFSETTO:-0400
TZNAME:EDT
DTSTART:20210314T070000
END:DAYLIGHT
BEGIN:STANDARD
TZOFFSETFROM:-0400
TZOFFSETTO:-0500
TZNAME:EST
DTSTART:20211107T060000
END:STANDARD
END:VTIMEZONE
BEGIN:VEVENT
DTSTART;TZID=America/New_York:20201124T180000
DTEND;TZID=America/New_York:20201201T190000
DTSTAMP:20260425T131544
CREATED:20201120T203033Z
LAST-MODIFIED:20201202T133301Z
UID:18760-1606240800-1606849200@www.auctionlistservices.com
SUMMARY:AJ Perri (56 lots)
DESCRIPTION:Air Conditioners \nAuction Closed \n See more
URL:https://www.auctionlistservices.com/auction/aj-perri/
LOCATION:AJ Perri\, Jackson\, NJ\, United States
CATEGORIES:AJ Perri,New Jersey
ATTACH;FMTTYPE=image/jpeg:https://www.auctionlistservices.com/wp-content/uploads/2020/11/01-6.jpg
END:VEVENT
END:VCALENDAR