BEGIN:VCALENDAR
VERSION:2.0
PRODID:-//Auction List Services - ECPv6.15.20//NONSGML v1.0//EN
CALSCALE:GREGORIAN
METHOD:PUBLISH
X-ORIGINAL-URL:https://www.auctionlistservices.com
X-WR-CALDESC:Events for Auction List Services
REFRESH-INTERVAL;VALUE=DURATION:PT1H
X-Robots-Tag:noindex
X-PUBLISHED-TTL:PT1H
BEGIN:VTIMEZONE
TZID:America/New_York
BEGIN:DAYLIGHT
TZOFFSETFROM:-0500
TZOFFSETTO:-0400
TZNAME:EDT
DTSTART:20220313T070000
END:DAYLIGHT
BEGIN:STANDARD
TZOFFSETFROM:-0400
TZOFFSETTO:-0500
TZNAME:EST
DTSTART:20221106T060000
END:STANDARD
BEGIN:DAYLIGHT
TZOFFSETFROM:-0500
TZOFFSETTO:-0400
TZNAME:EDT
DTSTART:20230312T070000
END:DAYLIGHT
BEGIN:STANDARD
TZOFFSETFROM:-0400
TZOFFSETTO:-0500
TZNAME:EST
DTSTART:20231105T060000
END:STANDARD
BEGIN:DAYLIGHT
TZOFFSETFROM:-0500
TZOFFSETTO:-0400
TZNAME:EDT
DTSTART:20240310T070000
END:DAYLIGHT
BEGIN:STANDARD
TZOFFSETFROM:-0400
TZOFFSETTO:-0500
TZNAME:EST
DTSTART:20241103T060000
END:STANDARD
BEGIN:DAYLIGHT
TZOFFSETFROM:-0500
TZOFFSETTO:-0400
TZNAME:EDT
DTSTART:20250309T070000
END:DAYLIGHT
BEGIN:STANDARD
TZOFFSETFROM:-0400
TZOFFSETTO:-0500
TZNAME:EST
DTSTART:20251102T060000
END:STANDARD
END:VTIMEZONE
BEGIN:VEVENT
DTSTART;TZID=America/New_York:20240409T090000
DTEND;TZID=America/New_York:20240418T190000
DTSTAMP:20260419T123701
CREATED:20240412T164557Z
LAST-MODIFIED:20240419T102326Z
UID:19690-1712653200-1713466800@www.auctionlistservices.com
SUMMARY:State of DE DelDoT (137)
DESCRIPTION:Heavy Equipment\, Trucks\, Equipment \nAuction Closed \n See more
URL:https://www.auctionlistservices.com/auction/state-of-de-deldot-2/
LOCATION:State of DE DelDOT\, Dover\, DE\, United States
CATEGORIES:Delaware,State of DE DelDoT
ATTACH;FMTTYPE=image/jpeg:https://www.auctionlistservices.com/wp-content/uploads/2024/04/174_1.jpg
END:VEVENT
BEGIN:VEVENT
DTSTART;TZID=America/New_York:20231107T090000
DTEND;TZID=America/New_York:20231116T190000
DTSTAMP:20260419T123701
CREATED:20231108T125815Z
LAST-MODIFIED:20231117T192504Z
UID:19582-1699347600-1700161200@www.auctionlistservices.com
SUMMARY:State of DE DelDoT (148)
DESCRIPTION:Trucks\, Vehicles\, Equipment \nAuction Closed \n See more
URL:https://www.auctionlistservices.com/auction/state-of-de-deldot/
LOCATION:State of DE DelDOT\, Dover\, DE\, United States
CATEGORIES:Delaware,State of DE DelDoT
ATTACH;FMTTYPE=image/jpeg:https://www.auctionlistservices.com/wp-content/uploads/2023/11/127_1.jpg
END:VEVENT
END:VCALENDAR