BEGIN:VCALENDAR
VERSION:2.0
PRODID:-//Auction List Services - ECPv6.15.20//NONSGML v1.0//EN
CALSCALE:GREGORIAN
METHOD:PUBLISH
X-WR-CALNAME:Auction List Services
X-ORIGINAL-URL:https://www.auctionlistservices.com
X-WR-CALDESC:Events for Auction List Services
REFRESH-INTERVAL;VALUE=DURATION:PT1H
X-Robots-Tag:noindex
X-PUBLISHED-TTL:PT1H
BEGIN:VTIMEZONE
TZID:America/New_York
BEGIN:DAYLIGHT
TZOFFSETFROM:-0500
TZOFFSETTO:-0400
TZNAME:EDT
DTSTART:20220313T070000
END:DAYLIGHT
BEGIN:STANDARD
TZOFFSETFROM:-0400
TZOFFSETTO:-0500
TZNAME:EST
DTSTART:20221106T060000
END:STANDARD
BEGIN:DAYLIGHT
TZOFFSETFROM:-0500
TZOFFSETTO:-0400
TZNAME:EDT
DTSTART:20230312T070000
END:DAYLIGHT
BEGIN:STANDARD
TZOFFSETFROM:-0400
TZOFFSETTO:-0500
TZNAME:EST
DTSTART:20231105T060000
END:STANDARD
BEGIN:DAYLIGHT
TZOFFSETFROM:-0500
TZOFFSETTO:-0400
TZNAME:EDT
DTSTART:20240310T070000
END:DAYLIGHT
BEGIN:STANDARD
TZOFFSETFROM:-0400
TZOFFSETTO:-0500
TZNAME:EST
DTSTART:20241103T060000
END:STANDARD
END:VTIMEZONE
BEGIN:VEVENT
DTSTART;TZID=America/New_York:20230602T110000
DTEND;TZID=America/New_York:20230613T183000
DTSTAMP:20260424T120622
CREATED:20230531T201234Z
LAST-MODIFIED:20230614T172524Z
UID:19464-1685703600-1686681000@www.auctionlistservices.com
SUMMARY:Orbit Energy and Power (1)
DESCRIPTION:2020 Tesla Model 3 Long Range Dual Motor Autopilot \nAuction Closed \n See more
URL:https://www.auctionlistservices.com/auction/orbit-energy-and-power-4/
LOCATION:Orbit Energy and Power\, Jackson\, NJ\, United States
CATEGORIES:New Jersey,Orbit Energy and Power
ATTACH;FMTTYPE=image/jpeg:https://www.auctionlistservices.com/wp-content/uploads/2023/05/70146_1.jpg
END:VEVENT
BEGIN:VEVENT
DTSTART;TZID=America/New_York:20230608T120000
DTEND;TZID=America/New_York:20230620T183000
DTSTAMP:20260424T120622
CREATED:20230605T203814Z
LAST-MODIFIED:20230621T201416Z
UID:19475-1686225600-1687285800@www.auctionlistservices.com
SUMMARY:Bank Owned Tractors (5)
DESCRIPTION:Tractor Trailers \nAuction Closed \n See more
URL:https://www.auctionlistservices.com/auction/bank-owned-tractors/
LOCATION:Bank Owned Tractors\, Jackson\, NJ\, United States
CATEGORIES:Bank Owned Tractors,New Jersey
ATTACH;FMTTYPE=image/jpeg:https://www.auctionlistservices.com/wp-content/uploads/2023/06/01.jpg
END:VEVENT
END:VCALENDAR