BEGIN:VCALENDAR
VERSION:2.0
PRODID:-//Auction List Services - ECPv6.15.20//NONSGML v1.0//EN
CALSCALE:GREGORIAN
METHOD:PUBLISH
X-ORIGINAL-URL:https://www.auctionlistservices.com
X-WR-CALDESC:Events for Auction List Services
REFRESH-INTERVAL;VALUE=DURATION:PT1H
X-Robots-Tag:noindex
X-PUBLISHED-TTL:PT1H
BEGIN:VTIMEZONE
TZID:America/New_York
BEGIN:DAYLIGHT
TZOFFSETFROM:-0500
TZOFFSETTO:-0400
TZNAME:EDT
DTSTART:20220313T070000
END:DAYLIGHT
BEGIN:STANDARD
TZOFFSETFROM:-0400
TZOFFSETTO:-0500
TZNAME:EST
DTSTART:20221106T060000
END:STANDARD
BEGIN:DAYLIGHT
TZOFFSETFROM:-0500
TZOFFSETTO:-0400
TZNAME:EDT
DTSTART:20230312T070000
END:DAYLIGHT
BEGIN:STANDARD
TZOFFSETFROM:-0400
TZOFFSETTO:-0500
TZNAME:EST
DTSTART:20231105T060000
END:STANDARD
BEGIN:DAYLIGHT
TZOFFSETFROM:-0500
TZOFFSETTO:-0400
TZNAME:EDT
DTSTART:20240310T070000
END:DAYLIGHT
BEGIN:STANDARD
TZOFFSETFROM:-0400
TZOFFSETTO:-0500
TZNAME:EST
DTSTART:20241103T060000
END:STANDARD
END:VTIMEZONE
BEGIN:VEVENT
DTSTART;TZID=America/New_York:20230325T090000
DTEND;TZID=America/New_York:20230418T190000
DTSTAMP:20260424T115935
CREATED:20230323T124831Z
LAST-MODIFIED:20230419T122427Z
UID:19416-1679734800-1681844400@www.auctionlistservices.com
SUMMARY:Orbit Energy and Power (1)
DESCRIPTION:Out of Business – Bank Owned 2021 Durango Hellcat \nAuction Closed \n See more
URL:https://www.auctionlistservices.com/auction/orbit-energy-and-power/
LOCATION:Orbit Energy and Power\, Jackson\, NJ\, United States
CATEGORIES:New Jersey,Orbit Energy and Power
ATTACH;FMTTYPE=image/jpeg:https://www.auctionlistservices.com/wp-content/uploads/2023/03/100_1.jpg
END:VEVENT
BEGIN:VEVENT
DTSTART;TZID=America/New_York:20230328T120000
DTEND;TZID=America/New_York:20230411T180000
DTSTAMP:20260424T115935
CREATED:20230323T125640Z
LAST-MODIFIED:20230412T163108Z
UID:19427-1680004800-1681236000@www.auctionlistservices.com
SUMMARY:Orbit Energy and Power (21)
DESCRIPTION:Out of Business – 2021 & 2022 Late Model Vehicles \nAuction Closed \n See more
URL:https://www.auctionlistservices.com/auction/orbit-energy-and-power-2/
LOCATION:Orbit Energy and Power\, Jackson\, NJ\, United States
CATEGORIES:New Jersey,Orbit Energy and Power
ATTACH;FMTTYPE=image/jpeg:https://www.auctionlistservices.com/wp-content/uploads/2023/03/img_2762.jpg
END:VEVENT
END:VCALENDAR